BEGIN:VCALENDAR
VERSION:2.0
PRODID:-//wp-events-plugin.com//7.2.3.1//EN
TZID:Europe/Amsterdam
X-WR-TIMEZONE:Europe/Amsterdam
BEGIN:VEVENT
UID:6@kvss.nl
DTSTART;TZID=Europe/Amsterdam:20251112T130000
DTEND;TZID=Europe/Amsterdam:20251112T183000
DTSTAMP:20250912T101810Z
URL:https://kvss.nl/events/najaarsbijeenkomst-2025/
SUMMARY:Najaarsbijeenkomst 2025
DESCRIPTION:De fiscale paragraaf\n\nAls scheidingsspecialist ontkom je er b
 ij het opstellen van een convenant niet aan\, de fiscale paragraaf. Voor d
 e één een zegen\, voor de ander een vloek. Enige tijd geleden werd door 
 fiscalisten Frank van de Barselaar\, Vanessa Vissers\, Tom van Baaren en R
 ob Welling een nieuw model ontwikkeld. De bouwstenen voor een solide fisca
 le paragraaf liggen daarmee klaar. Maar\, zoals bij elk model valt en staa
 t het met de toepassing ervan in de praktijk.\n\nUniek aan deze bijeenkoms
 t is dat de KVSS alle betrokken fiscalisten bereid heeft gevonden om in ee
 n drie uur durende bijeenkomst in te gaan op de toepassingen van het model
  in de praktijk. Vragen als: waar begin je\, wanneer voeg je een tekstblok
  toe (of juist niet) en hoe zorg je voor echt maatwerk\, komen zeker aan b
 od.\n\nMet deze training krijg je de tools en inzichten die je nodig hebt 
 om de fiscale paragraaf in echtscheidingsconvenanten effectief toe te pass
 en. Zo zorgt de fiscale paragraaf voor écht toegevoegde waarde in het con
 venant. Kortom\, deze bijeenkomst mag je niet missen!\n\n&nbsp\;
ATTACH;FMTTYPE=image/jpeg:https://kvss.nl/wp-content/uploads/2024/06/Fisca
 le-paragraaf-1.jpg
LOCATION:Liemès Food District\, Proostwetering 11\, Utrecht\, 3543AB\, Ned
 erland
X-APPLE-STRUCTURED-LOCATION;VALUE=URI;X-ADDRESS=Proostwetering 11\, Utrecht
 \, 3543AB\, Nederland;X-APPLE-RADIUS=100;X-TITLE=Liemès Food District:geo
 :0,0
END:VEVENT
BEGIN:VTIMEZONE
TZID:Europe/Amsterdam
X-LIC-LOCATION:Europe/Amsterdam
BEGIN:STANDARD
DTSTART:20251026T020000
TZOFFSETFROM:+0200
TZOFFSETTO:+0100
TZNAME:CET
END:STANDARD
END:VTIMEZONE
END:VCALENDAR